BEGIN:VCALENDAR
VERSION:2.0
PRODID:-//Sabre//Sabre VObject 4.5.8//EN
CALSCALE:GREGORIAN
BEGIN:VEVENT
UID:sabre-vobject-5c9c7a77-38ca-4047-a946-ec79fb530f0d
DTSTAMP:20260421T074042Z
SUMMARY:NAF Silent Auction & Resale Event
DESCRIPTION:Friday\, 5 September 2025 from 8:00 AM - 12:00 PM.&nbsp\; Annis
 ton Army Depot\, Building 1540.&nbsp\; (Must have Star ID to access instal
 lation.)&nbsp\; Auction and resale items include: Vehicles\, A-Line Camper
 s\, Boat Motors\, Commercial Kitchen Equipment\, Commercial Exercise Equip
 ment\, Inflatable Bounce Houses\, Office Furniture\, Enclosed Trailers\, C
 hildren&#39\;s Furniture\, and much\, much more!!&nbsp\;&nbsp\;\n
X-ALT-DESC:FMTTYPE=text/html:<!DOCTYPE HTML PUBLIC "-//W3C//DTD HTML 3.2//E
 N"><HTML><p>Friday\, 5 September 2025 from 8:00 AM - 12:00 PM.&nbsp\; Anni
 ston Army Depot\, Building 1540.&nbsp\; (Must have Star ID to access insta
 llation.)&nbsp\; Auction and resale items include: Vehicles\, A-Line Campe
 rs\, Boat Motors\, Commercial Kitchen Equipment\, Commercial Exercise Equi
 pment\, Inflatable Bounce Houses\, Office Furniture\, Enclosed Trailers\, 
 Children&#39\;s Furniture\, and much\, much more!!&nbsp\;&nbsp\;</p>\n</HT
 ML>
CREATED;TZID=America/Chicago:20250730T134003
URL;VALUE=URI:https://anniston.armymwr.com/calendar/event
DTSTART;TZID=America/Chicago:20250730T133000
DTEND;TZID=America/Chicago:20250730T143000
SEQUENCE:0
END:VEVENT
END:VCALENDAR
