BEGIN:VCALENDAR
VERSION:2.0
PRODID:-//Sabre//Sabre VObject 4.5.8//EN
CALSCALE:GREGORIAN
BEGIN:VEVENT
UID:sabre-vobject-f9a0405f-c174-44a6-b214-1223448f5e30
DTSTAMP:20260424T060049Z
SUMMARY:CYS Spring Camp (24-28 March 2025)
DESCRIPTION:Anniston Army Depot Child &amp\; Youth Services&#39\; 2025 Spri
 ng Break Camp is 24-28 March 2025 for all children whose parents and/or le
 gal guardians have an association with the military/government.&nbsp\; Spr
 ing Camp Theme = Edible STEM Experiments:&nbsp\; Ice Cream in a Bag\; Edib
 le Slime\; Edible Play Dough\; Kool-Aide Experiment\; Rock Candy Science E
 xperiment\; The Science of Lemonade.&nbsp\; Camp cost is based on total fa
 mily income.&nbsp\; Visit militarychildcare.com to register your child&nbs
 p\;for a fun filled week!&nbsp\;&nbsp\;For more information call 256-235-6
 273.&nbsp\;&nbsp\;\n
X-ALT-DESC:FMTTYPE=text/html:<!DOCTYPE HTML PUBLIC "-//W3C//DTD HTML 3.2//E
 N"><HTML><p>Anniston Army Depot Child &amp\; Youth Services&#39\; 2025 Spr
 ing Break Camp is 24-28 March 2025 for all children whose parents and/or l
 egal guardians have an association with the military/government.&nbsp\; Sp
 ring Camp Theme = Edible STEM Experiments:&nbsp\; Ice Cream in a Bag\; Edi
 ble Slime\; Edible Play Dough\; Kool-Aide Experiment\; Rock Candy Science 
 Experiment\; The Science of Lemonade.&nbsp\; Camp cost is based on total f
 amily income.&nbsp\; Visit <u>militarychildcare.com</u> to register your c
 hild&nbsp\;for a fun filled week!&nbsp\;&nbsp\;For more information call 2
 56-235-6273.&nbsp\;&nbsp\;</p>\n</HTML>
CREATED;TZID=America/Chicago:20250224T125120
URL;VALUE=URI:https://anniston.armymwr.com/calendar/event
DTSTART;TZID=America/Chicago:20250324T053000
DTEND;TZID=America/Chicago:20250328T170000
SEQUENCE:0
END:VEVENT
END:VCALENDAR
